BEGIN:VCALENDAR
VERSION:2.0
CALSCALE:GREGORIAN
PRODID:-//MyApp//Calendar 1.0//EN
BEGIN:VEVENT
METHOD:PUBLISH
UID:33809@regionalniportaly.cz
DTSTAMP:20260422T153327Z
DTSTART;VALUE=DATE:20230722
DTEND;VALUE=DATE:20230729
SUMMARY:Folkové prázdniny
DESCRIPTION:HLAVNÍ PROGRAM\nSOBOTA 22. 7. 202320:00 SLAVNOSTNÍ OTEVŘENÍ\n\nvystoupí THE QUINTETO ASTOR PIAZZOLLA (ARGENTINA)\n\nNEDĚLE 23. 7. 202314:00 NEDĚLNÍ SVÁTEČNÍ ODPOLEDNE U STARÉ TKALCOVNY\, 19:45 INSPIRACE VE SVĚTĚ\n\nMIREK KEMEL &amp\; HOSTÉ\nDIVADLO KJÓGEN\nVRÏ (WALES)\n\nPONDĚLÍ 24. 7. 202317:30 INSPIRACE V DÁVNU\n\nBRUSHY ONE STRING (JAMAJKA)\nLILIUM LISTE\nLADY MAISERY (VELKÁ BRITÁNIE)\n\nÚTERÝ 25. 7. 202317:30 TKANÁ HUDBA\n\nWOVEN SOUNDS (ÍRÁN\, TURECKO)\nBANDA (SLOVENSKO)\nANA CARLA MAZA (KUBA)\n\nSTŘEDA 26. 7. 202317:30 HUDEBNÍ MOSTY\n\nJIŘÍ PAVLICA &amp\; HRADIŠŤAN\nKURBASY (UKRAJINA)\nBRÌGHDE CHAIMBEUL\, ROSS AINSLIE &amp\; STEVEN BYRNES (SKOTSKO/IRSKO)\n\nČTVRTEK 27. 7. 202317:30 IRSKO INSPIRUJÍCÍ\n\nROBERT KŘESŤAN &amp\; DRUHÁ TRÁVA\nLIAM Ó MAONLAÍ &amp\; KATEŘINA GARCÍA (IRSKO\, ČR)\nDAOIRÍ FARRELL TRIO (IRSKO)\n\nPÁTEK 28. 7. 202317:30 HOUSLOVÉ MOSTY\n\nKAREL PLÍHAL\nRACHELE ANDRIOLI (ITÁLIE)\nHOUSLE NAD OSLAVOU (POLSKO\, SLOVENSKO\, SKOTSKO)\n\nSOBOTA 29. 7. 202317:30 MOSTY MEZI SVĚTADÍLY\n\nORCHESTR FOLKOVÝCH PRÁZDNIN (DE/CZ)\nCONGO COWBOYS (JIHOAFRICKÁ REPUBLIKA)\nHELSINKI-COTONOU ENSEMBLE (FINSKO/BENIN)\n\n \nNOČNÍ KONCERTY (vždy po 23:00\, STARÁ TKALCOVNA)\nPONDĚLÍ 24. 7. 2023 - STANO PALÚCH: PREMENY (SLOVENSKO)\nÚTERÝ 25. 7. 2023 - KACPER MALISZ (POLSKO)\nSTŘEDA 26. 7. 2023 - RYAN YOUNG (VELKÁ BRITÁNIE)\nČTVRTEK 27. 7. 2023 - TELEMANNIA\nPÁTEK 28. 7. 2023 - TIME TRAVELERS (NĚMECKO\, CZ)\n 
LOCATION:Náměšť nad Oslavou
END:VEVENT
END:VCALENDAR