BEGIN:VCALENDAR
VERSION:2.0
CALSCALE:GREGORIAN
PRODID:-//MyApp//Calendar 1.0//EN
BEGIN:VEVENT
METHOD:PUBLISH
UID:33725@regionalniportaly.cz
DTSTAMP:20260422T151211Z
DTSTART;VALUE=DATE:20230624
DTEND;VALUE=DATE:20230625
SUMMARY:Náměšťský Bloudil 24.6.2023
DESCRIPTION:Náměšťský bloudil je cyklistický orientační závod dvojic. Systém závodu spočívá ve vyhledávání kontrolních stanovišť za pomocí mapy a schopnosti závodníků orientovat se v členitém terénu.\nZávodní dvojice budou zařazovány do kategorií (rozhodující je rok narození):dvojice mužidvojice ženysmíšená dvojice (žena + muž)dospělý + dítě do 10ti let (ročník 2013 a více)dospělý + dítě 11 až 15 let (ročník 2008 až 2012)
LOCATION:Náměšť nad Oslavou
END:VEVENT
END:VCALENDAR