BEGIN:VCALENDAR
VERSION:2.0
CALSCALE:GREGORIAN
PRODID:-//MyApp//Calendar 1.0//EN
BEGIN:VEVENT
METHOD:PUBLISH
UID:32753@regionalniportaly.cz
DTSTAMP:20260422T151136Z
DTSTART;VALUE=DATE:20230602
DTEND;VALUE=DATE:20230603
SUMMARY:Helena Vondráčková show
DESCRIPTION:Koncert Helelny Vondráčkové a jejich hostů.
LOCATION:Náměšť nad Oslavou
END:VEVENT
END:VCALENDAR