BEGIN:VCALENDAR
VERSION:2.0
CALSCALE:GREGORIAN
PRODID:-//MyApp//Calendar 1.0//EN
BEGIN:VEVENT
METHOD:PUBLISH
UID:32752@regionalniportaly.cz
DTSTAMP:20260422T134929Z
DTSTART;VALUE=DATE:20230913
DTEND;VALUE=DATE:20230914
SUMMARY:Mlčeti zlato
DESCRIPTION:Frankouzská komedie s Danou Morávkovou a Janem Čenským v hlavních rolích
LOCATION:Náměšť nad Oslavou
END:VEVENT
END:VCALENDAR