BEGIN:VCALENDAR
VERSION:2.0
CALSCALE:GREGORIAN
PRODID:-//MyApp//Calendar 1.0//EN
BEGIN:VEVENT
METHOD:PUBLISH
UID:32751@regionalniportaly.cz
DTSTAMP:20260422T135107Z
DTSTART;VALUE=DATE:20230525
DTEND;VALUE=DATE:20230526
SUMMARY:Petr Špaček a band
DESCRIPTION:Violoncellový koncert Petra Špačka a jeho bandu s nabitým programem!\nVstupenky od 280\,- korun na www.ticketportal.cz
LOCATION:Náměšť nad Oslavou
END:VEVENT
END:VCALENDAR