BEGIN:VCALENDAR
VERSION:2.0
CALSCALE:GREGORIAN
PRODID:-//MyApp//Calendar 1.0//EN
BEGIN:VEVENT
METHOD:PUBLISH
UID:30894@regionalniportaly.cz
DTSTAMP:20260422T151145Z
DTSTART;VALUE=DATE:20230624
DTEND;VALUE=DATE:20230625
SUMMARY:Zájezd do Divadla Kalich v Praze
DESCRIPTION:BIOGRAF LÁSKA\n- muzikálové představení s písničkami Hany Zagorové\nNestárnoucí hity legendární zpěvačky\, devítinásobné Zlaté slavice Hany Zagorové doprovázejí příběh\, který může prožít úplně každý. Děj muzikálu se točí okolo třech hlavních ženských postav\, které dokáží i vážné situace přijímat s humorem a nadhledem\, dokáží se navzájem tak trochu špičkovat\, dělat si ze sebe legraci\, ale v důležitých okamžicích se podržet. Ovšem muži v tomto příběhu mají také důležitou\, ba přímo zásadní roli. Mužský a ženský svět se tu prolíná\, navíc nesmíme zapomenout na dětské postavy\, které jsou důležitou protiváhou často komplikovaného světa dospělých.\n \nOdjezd: 8:10 Rapotice\, 8:20 Kralice\, 8:30 Náměšť nad Oslavou (návrat ve večerních hodinách)\nZačátek představení: 14:30\nCena vstupenek: od 699 Kč do 999 Kč dle vybraných sedadel (aktuálně už jenom vstupenky za 699 Kč a 799 Kč)\nCena dopravy: 470 Kč/osoba (dopravce Václav Rous)\nObjednávky a informace ke vstupenkám vám poskytneme na:\ntel.: 603 874 623 nebo na https://www.odetipostarano.cz/pojedte-s-nami-do-divadla/\n \nPřed představením bude v Praze čas na oběd\, kávu nebo procházku.\n 
LOCATION:Rapotice
END:VEVENT
END:VCALENDAR