BEGIN:VCALENDAR
VERSION:2.0
CALSCALE:GREGORIAN
PRODID:-//MyApp//Calendar 1.0//EN
BEGIN:VEVENT
METHOD:PUBLISH
UID:27472@regionalniportaly.cz
DTSTAMP:20260419T130122Z
DTSTART;VALUE=DATE:20220521
DTEND;VALUE=DATE:20220522
SUMMARY:42. Jinošovské studánky
DESCRIPTION:ZO Český zahrádkářský svaz Jinošov za podpory obcí Jinošov\, Pucov\, Hluboké\, Krokočín\, zve přátele přírody na 42. JINOŠOVSKÉ STUDÁNKY 21. května 2022.\nOd 8.00 do 10.00 hodin prezentace turistů na návsi v Jinošově.U studánek vítání turistů chlebem a solí.\nOd 12 hodin občerstvení s táborákem u rybníka Bělizna.\n
LOCATION:Jinošov
END:VEVENT
END:VCALENDAR