BEGIN:VCALENDAR
VERSION:2.0
CALSCALE:GREGORIAN
PRODID:-//MyApp//Calendar 1.0//EN
BEGIN:VEVENT
METHOD:PUBLISH
UID:20717@regionalniportaly.cz
DTSTAMP:20260420T202622Z
DTSTART;VALUE=DATE:20190720
DTEND;VALUE=DATE:20190721
SUMMARY:Setkání pivovarů v Rosicích 20.7.
DESCRIPTION:14. Setkání malých pivovarů v Rosicích je tradiční letní pivní festival s bohatou hudební pěnou\n\nÚčast přislíbily pivovary Rosice\, Padochov\, Konopex - Ostrava\, Brewniverse (U 2 přátel) - Brno\, Pivovar Ládví Cobolis - Praha\, Moravia & Lucky Bastard - Brno\, Rodinný pivovar 713 - Hradec Králové\, Pivovar Tišnov\, Kvasar - Sentice\, Qásek - Ostrava\, Pivovar Kokeš - Kamenice nad Lipou \n\nVystoupí kapely: Půljablkoň\, Feri and The Gypsies\, Gods Wawe\, Assy Rock\, Awake\, Strideo\, Tremolo  ... DJ Dworak\, Noční Proud\nZačátek ve 13:00\, vstupné 130 Kč\, děti do 10 let zdarma. Prvních 500 návštěvníků obdrží originální pivní sklo.
LOCATION:Rosice
END:VEVENT
END:VCALENDAR