BEGIN:VCALENDAR
VERSION:2.0
CALSCALE:GREGORIAN
PRODID:-//MyApp//Calendar 1.0//EN
BEGIN:VEVENT
METHOD:PUBLISH
UID:17748@regionalniportaly.cz
DTSTAMP:20260420T144244Z
DTSTART;VALUE=DATE:20181117
DTEND;VALUE=DATE:20181118
SUMMARY:Světlo pro 17. listopad
DESCRIPTION:Od 15:00 hod.\, Karlovo náměstí\n\nOslava státního svátku lampionovým průvodem
LOCATION:Třebíč
END:VEVENT
END:VCALENDAR