BEGIN:VCALENDAR
VERSION:2.0
CALSCALE:GREGORIAN
PRODID:-//MyApp//Calendar 1.0//EN
BEGIN:VEVENT
METHOD:PUBLISH
UID:17716@regionalniportaly.cz
DTSTAMP:20260420T131437Z
DTSTART;VALUE=DATE:20181109
DTEND;VALUE=DATE:20181110
SUMMARY:Martinský lampionový průvod
DESCRIPTION:Tradiční lampionový průvod městem Hrotovice. \nZahájení na nádvoří zámku v 17.00 hodin krátkým programem\, lampionový průvod\, příjezd sv. Martina na bílém koni.
LOCATION:Hrotovice
END:VEVENT
END:VCALENDAR