BEGIN:VCALENDAR
VERSION:2.0
CALSCALE:GREGORIAN
PRODID:-//MyApp//Calendar 1.0//EN
BEGIN:VEVENT
METHOD:PUBLISH
UID:17702@regionalniportaly.cz
DTSTAMP:20260420T131516Z
DTSTART;VALUE=DATE:20181111
DTEND;VALUE=DATE:20181112
SUMMARY:Svatomartinské hody
DESCRIPTION:Připravili jsme pro vás Svatomartinské menu:\nHusí játra v sádle\, pečivo - 45 Kč\nHusí vývar s drůbky a zeleninou - 40 Kč\n1/4 Pomalu pečená husička s bílým a \nčerveným zelím\, houskový knedlík - 229 Kč\nStaročeský domácí jablečný závin - 40 Kč\nCena za celé menu - 289 KČ\nObjednávky +420 723 929 310
LOCATION:Zakřany
END:VEVENT
END:VCALENDAR