BEGIN:VCALENDAR
VERSION:2.0
CALSCALE:GREGORIAN
PRODID:-//MyApp//Calendar 1.0//EN
BEGIN:VEVENT
METHOD:PUBLISH
UID:17337@regionalniportaly.cz
DTSTAMP:20260420T131526Z
DTSTART;VALUE=DATE:20181111
DTEND;VALUE=DATE:20181112
SUMMARY:Svatomartinské hody v pivovaru
DESCRIPTION:Tradiční podzimní pivovarská gastroakce\, víkendová oslava svátku svatého Martina. Přijďte od pátku do neděle na husy\, kachny a další chutné opeřence\, dalešické pivo a mladá vína. Doporučujeme rezervaci na: rezervace@pivovar-dalesice.cz nebo 568 860 942 :-)
LOCATION:Dalešice
END:VEVENT
END:VCALENDAR