BEGIN:VCALENDAR
VERSION:2.0
CALSCALE:GREGORIAN
PRODID:-//MyApp//Calendar 1.0//EN
BEGIN:VEVENT
METHOD:PUBLISH
UID:1722@regionalniportaly.cz
DTSTAMP:20260424T230027Z
DTSTART;VALUE=DATE:20150523
DTEND;VALUE=DATE:20150524
SUMMARY:Mohelno 2015
DESCRIPTION:
LOCATION:Mohelno
END:VEVENT
END:VCALENDAR