BEGIN:VCALENDAR
VERSION:2.0
CALSCALE:GREGORIAN
PRODID:-//MyApp//Calendar 1.0//EN
BEGIN:VEVENT
METHOD:PUBLISH
UID:16852@regionalniportaly.cz
DTSTAMP:20260421T182911Z
DTSTART;VALUE=DATE:20180916
DTEND;VALUE=DATE:20180917
SUMMARY:Historické kolokvium Zámek v Náměšti za první republiky
DESCRIPTION:15:00\n\nDebata historiků a členů rodiny Haugwitz s veřejností o situaci šlechty po roce 1918 a o životě na zámku v době první republiky.\n\nÚčast přislíbili:\n\nDr. Johanna El-Kalak Haugwitz (dcera posledního soukromého majitele zámku Jindřicha Haugwitze)\nGloria Droste (dcera Otokara Haugwitze)\nMgr. Zdeněk Hazdra\, Ph.D. (historik\, ředitel Ústavu pro studium totalitních režimů)\nPhDr. Petr Beránek (historik Muzea Vysočiny v Třebíči)
LOCATION:Náměšť nad Oslavou
END:VEVENT
END:VCALENDAR