BEGIN:VCALENDAR
VERSION:2.0
CALSCALE:GREGORIAN
PRODID:-//MyApp//Calendar 1.0//EN
BEGIN:VEVENT
METHOD:PUBLISH
UID:16850@regionalniportaly.cz
DTSTAMP:20260421T212120Z
DTSTART;VALUE=DATE:20180915
DTEND;VALUE=DATE:20180916
SUMMARY:28. zámecký koncert v Náměšti nad Oslavou - Radek Baborák\, Baborak Ensemble
DESCRIPTION:Srdečně vás zveme na vyvrcholení hudební sezóny zámku v Náměšti nad Oslavou\,\nkterým bude 28. Zámecký koncert pořádaný v sobotu 15. září 2018 v 17 hodin v zámecké knihovně.\n \n\nÚčinkují:\n\nRADEK BABORÁK\, BABORAK ENSEMBLE\n\nRadek Baborák - lesní roh\, umělecký vedoucí\n\nBaborak Ensemble (D. Karvay\, M. Bačová\, K. Untermüller\, H. Baboráková\, P. Ries\, J. Brozková\, M. Brožková\, V. Borovka\, O. Roskovec\, B. Goldscheider\, A. Bárta).\n\n \n\nProgram\n\nGeorg Friedrich Händel (1685-1759):\nWassermusik\nMarch * Allegro * Alla hornpipe\n\nJean-Joseph Mouret (1682-1738):\n2éme Suite de Symphonie melles de Cors de Chasse en Re majeur\nPrelude * Allegro * Gavotte * Menuetto * Allegro\n\nAntonio Vivaldi (1678-1741):\nConcerto in Fa maggiore per due corni\, archi e cembalo\nAllegro * Largo * Allegro ma non troppo\n\nMichel Corrette (1707-1795):\nConcerto C-Dur „La Choisy“\nAllegro * Adagio * Allegro\n\nGeorg Philipp Telemann (1681-1767):\n3. Konzert D-Dur per 2 corni e orchestra\nSpiritoso ma non presto * Largo * Allegro * Largo * Allegro assai\n\nVstupenky možno objednat na tel. č. 568 620 319 nebo na adrese namest@npu.cz.
LOCATION:Náměšť nad Oslavou
END:VEVENT
END:VCALENDAR