BEGIN:VCALENDAR
VERSION:2.0
CALSCALE:GREGORIAN
PRODID:-//MyApp//Calendar 1.0//EN
BEGIN:VEVENT
METHOD:PUBLISH
UID:16181@regionalniportaly.cz
DTSTAMP:20260422T210612Z
DTSTART;VALUE=DATE:20180804
DTEND;VALUE=DATE:20180805
SUMMARY:Folkové prázdniny
DESCRIPTION:
LOCATION:Náměšť nad Oslavou
END:VEVENT
END:VCALENDAR